BEGIN:VCALENDAR
VERSION:2.0
PRODID:-//Musikschule Friedberg - ECPv6.15.11//NONSGML v1.0//EN
CALSCALE:GREGORIAN
METHOD:PUBLISH
X-ORIGINAL-URL:https://www.musikschule-friedberg.de
X-WR-CALDESC:Veranstaltungen für Musikschule Friedberg
REFRESH-INTERVAL;VALUE=DURATION:PT1H
X-Robots-Tag:noindex
X-PUBLISHED-TTL:PT1H
BEGIN:VTIMEZONE
TZID:Europe/Berlin
BEGIN:DAYLIGHT
TZOFFSETFROM:+0100
TZOFFSETTO:+0200
TZNAME:CEST
DTSTART:20210328T010000
END:DAYLIGHT
BEGIN:STANDARD
TZOFFSETFROM:+0200
TZOFFSETTO:+0100
TZNAME:CET
DTSTART:20211031T010000
END:STANDARD
BEGIN:DAYLIGHT
TZOFFSETFROM:+0100
TZOFFSETTO:+0200
TZNAME:CEST
DTSTART:20220327T010000
END:DAYLIGHT
BEGIN:STANDARD
TZOFFSETFROM:+0200
TZOFFSETTO:+0100
TZNAME:CET
DTSTART:20221030T010000
END:STANDARD
BEGIN:DAYLIGHT
TZOFFSETFROM:+0100
TZOFFSETTO:+0200
TZNAME:CEST
DTSTART:20230326T010000
END:DAYLIGHT
BEGIN:STANDARD
TZOFFSETFROM:+0200
TZOFFSETTO:+0100
TZNAME:CET
DTSTART:20231029T010000
END:STANDARD
END:VTIMEZONE
BEGIN:VEVENT
DTSTART;TZID=Europe/Berlin:20220702T100000
DTEND;TZID=Europe/Berlin:20220702T160000
DTSTAMP:20260425T204959
CREATED:20210108T141715Z
LAST-MODIFIED:20220312T135520Z
UID:1604-1656756000-1656777600@www.musikschule-friedberg.de
SUMMARY:DRUMPROGRAMMING
DESCRIPTION:DRUMPROGRAMMING \nDu möchtest die Aufnahmen deiner Songs mit einem richtig guten Schlagzeug veredeln\, hast aber keinen (bezahlbaren) Top-Schlagzeuger oder keinen gut klingenden Aufnahmeraum? Kein Problem – mittlerweile bekommst du für wenig Geld Aufnahmen von einem Top-Schlagzeug\, gespielt von einem Spitzendrummer und in einem Weltklasse-Studio aufgenommen! Was den meisten Musiker*innen heutzutage fehlt\, ist das Wissen\, wie man ein Schlagzeug im Detail spielt und wie man dieses Wissen praktisch umsetzt\, um eine absolut überzeugende Schlagzeugspur zu programmieren. Dieser Workshop vermittelt genau dieses Wissen.\nWorkshopInhalte: \n\nWahl der richtigen Drum-Library\nDenken wie ein Schlagzeuger: Grundlegendes Schlagzeugwissen\nGrundlagen der Schlagzeugprogrammierung: Typische Spieltechniken & Pattern\nStilistische Überlegungen: Arrangement\, Spieltechniken\, Mix\nFine-Tuning: Stilistischen Überlegungen\, Humanisierung (Dynamik\, Variationen\, Tempo\, Schwankungen\, …)\, etc.\nEffektives Arbeiten\nViele Praxis-Tipps & Tricks\nIndividuellen Fragen\n\nLEITUNG Andi Saitenhieb\nWORKSHOP Sa. 02.07.2022 UHRZEIT 10:00 – 16:00\nORT Musikschule Friedberg\, Kaiserstraße 21 (Saal)\nKOSTEN 60 € pro Person/erm. 50 €\nZIELGRUPPE Interessierte Musiker*innen ab 16 Jahren\, auch Anfänger*innen. Wünschenswert ist ein eigenes Notebook o. ä.\, um Inhalte gleich praktisch umzusetzen.
URL:https://www.musikschule-friedberg.de/veranstaltung/drumprogramming/
LOCATION:Musikschule Friedberg\, Kaiserstr. 21\, Friedberg\, Hessen\, 61169\, Deutschland
CATEGORIES:Workshop
ORGANIZER;CN="Musikschule Friedberg":MAILTO:info@musikschule-friedberg.de
END:VEVENT
END:VCALENDAR