BEGIN:VCALENDAR
VERSION:2.0
PRODID:-//Musikschule Friedberg - ECPv6.15.11//NONSGML v1.0//EN
CALSCALE:GREGORIAN
METHOD:PUBLISH
X-WR-CALNAME:Musikschule Friedberg
X-ORIGINAL-URL:https://www.musikschule-friedberg.de
X-WR-CALDESC:Veranstaltungen für Musikschule Friedberg
REFRESH-INTERVAL;VALUE=DURATION:PT1H
X-Robots-Tag:noindex
X-PUBLISHED-TTL:PT1H
BEGIN:VTIMEZONE
TZID:Europe/Berlin
BEGIN:DAYLIGHT
TZOFFSETFROM:+0100
TZOFFSETTO:+0200
TZNAME:CEST
DTSTART:20200329T010000
END:DAYLIGHT
BEGIN:STANDARD
TZOFFSETFROM:+0200
TZOFFSETTO:+0100
TZNAME:CET
DTSTART:20201025T010000
END:STANDARD
BEGIN:DAYLIGHT
TZOFFSETFROM:+0100
TZOFFSETTO:+0200
TZNAME:CEST
DTSTART:20210328T010000
END:DAYLIGHT
BEGIN:STANDARD
TZOFFSETFROM:+0200
TZOFFSETTO:+0100
TZNAME:CET
DTSTART:20211031T010000
END:STANDARD
BEGIN:DAYLIGHT
TZOFFSETFROM:+0100
TZOFFSETTO:+0200
TZNAME:CEST
DTSTART:20220327T010000
END:DAYLIGHT
BEGIN:STANDARD
TZOFFSETFROM:+0200
TZOFFSETTO:+0100
TZNAME:CET
DTSTART:20221030T010000
END:STANDARD
END:VTIMEZONE
BEGIN:VEVENT
DTSTART;TZID=Europe/Berlin:20210508T100000
DTEND;TZID=Europe/Berlin:20210508T160000
DTSTAMP:20260425T150448
CREATED:20201216T133849Z
LAST-MODIFIED:20210421T142747Z
UID:1315-1620468000-1620489600@www.musikschule-friedberg.de
SUMMARY:Schnuppertag
DESCRIPTION:Sa. 08.05.2021 | 10 – 16 Uhr | Musikschule Friedberg\nSchnuppertag 1 ab 6 Jahren\nWer schon immer ein Instrument ausprobieren wollte\, sich bisher aber nicht dazu durchringen konnte\, ist bei unserem Schnuppertag genau richtig! Über ein Dutzend Fachlehrkräfte der Musikschule bieten 30-minütige Schnupperunterrichte an. Für kostenlosen Schnupperunterricht auf folgenden Instrumenten kann sich jede(r) Interessierte anmelden: Akkordeon\, Cello\, E-Bass\, E-Gitarre\, Gesang\, Gitarre\, Harfe\, Posaune\, Schlagzeug\, Ukulele\, Viola und Violine. Auch andere Instrumente wie Kontrabass\, Fagott\, Trompete und weitere können wir nach Vereinbarung anbieten. Es sind mehrere Schnuppertermine möglich!\nEine Anmeldung ist bis spätestens 30. April erforderlich. Schicken Sie dazu bitte das vollständig ausgefüllte Anmeldeformular an die Musikschule; gerne auch per Mail. Kreuzen Sie die Option Sonstiges/Workshop an\, ergänzen Schnuppertag mit dem Datum des Schnuppertags und nennen in der folgenden Zeile das gewünschte Instrument oder Gesang.\nFür jede Person und jedes Instrument ist ein Anmeldeformular erforderlich! Liegen uns Daten bereits vor und sollen wir diese verwenden\, reichen die Angaben von Namen und Geburtsdatum mit dem Hinweis (z.B. bitte bekannte Daten verwenden) aus. Die Erteilung eines SEPA-Lastschriftmandats ist nicht erfoderlich\, da die Schnupperstunden am Schnuppertag kostenfrei für alle Interessenten sind. Wir bestätigen Ihnen Ihre bzw. die Anmeldung Ihres Kindes mit Angabe von Instrument\, Lehrkraft und Termin.
URL:https://www.musikschule-friedberg.de/veranstaltung/schnuppertag-1/
LOCATION:Musikschule Friedberg\, Kaiserstr. 21\, Friedberg\, Hessen\, 61169\, Deutschland
ORGANIZER;CN="Musikschule Friedberg":MAILTO:info@musikschule-friedberg.de
END:VEVENT
END:VCALENDAR