BEGIN:VCALENDAR
VERSION:2.0
PRODID:-//Musikschule Friedberg - ECPv6.15.11//NONSGML v1.0//EN
CALSCALE:GREGORIAN
METHOD:PUBLISH
X-ORIGINAL-URL:https://www.musikschule-friedberg.de
X-WR-CALDESC:Veranstaltungen für Musikschule Friedberg
REFRESH-INTERVAL;VALUE=DURATION:PT1H
X-Robots-Tag:noindex
X-PUBLISHED-TTL:PT1H
BEGIN:VTIMEZONE
TZID:Europe/Berlin
BEGIN:DAYLIGHT
TZOFFSETFROM:+0100
TZOFFSETTO:+0200
TZNAME:CEST
DTSTART:20210328T010000
END:DAYLIGHT
BEGIN:STANDARD
TZOFFSETFROM:+0200
TZOFFSETTO:+0100
TZNAME:CET
DTSTART:20211031T010000
END:STANDARD
BEGIN:DAYLIGHT
TZOFFSETFROM:+0100
TZOFFSETTO:+0200
TZNAME:CEST
DTSTART:20220327T010000
END:DAYLIGHT
BEGIN:STANDARD
TZOFFSETFROM:+0200
TZOFFSETTO:+0100
TZNAME:CET
DTSTART:20221030T010000
END:STANDARD
BEGIN:DAYLIGHT
TZOFFSETFROM:+0100
TZOFFSETTO:+0200
TZNAME:CEST
DTSTART:20230326T010000
END:DAYLIGHT
BEGIN:STANDARD
TZOFFSETFROM:+0200
TZOFFSETTO:+0100
TZNAME:CET
DTSTART:20231029T010000
END:STANDARD
END:VTIMEZONE
BEGIN:VEVENT
DTSTART;TZID=Europe/Berlin:20220925T110000
DTEND;TZID=Europe/Berlin:20220925T150000
DTSTAMP:20260422T124935
CREATED:20220321T162022Z
LAST-MODIFIED:20220707T103755Z
UID:4378-1664103600-1664118000@www.musikschule-friedberg.de
SUMMARY:Tag der offenen Tür - Schnuppertag
DESCRIPTION:So. 25.09.2022 | ab 11 Uhr | Musikschule Friedberg\nab 6 Jahren\nWer schon immer ein Instrument ausprobieren wollte\, sich bisher aber nicht dazu durchringen konnte\, ist bei unserem Tag der offenen Tür genau richtig!\n11:00 Uhr – Familienkonzert mit Ensembles von Lehrkräften der Musikschule\n11:30 – 13:00 Uhr – Instrumente anfassen und ausprobieren\nab 13:00 Uhr bieten über ein Dutzend Fachlehrkräfte der Musikschule 20-minütige Schnupperunterrichte an. \nFür diesen kostenlosen Schnupperunterricht auf folgenden Instrumenten kann sich jede(r) Interessierte anmelden: Akkordeon\, Cello\, E-Bass\, E-Gitarre\, Gesang\, Harfe\, Schlagzeug\, Ukulele\, Viola und Violine\, Kontrabass\, Fagott\, Oboe und weitere können wir nach Vereinbarung anbieten. Es sind mehrere Schnuppertermine möglich!\nEine Anmeldung ist bis spätestens 18. September erforderlich. Schicken Sie dazu bitte das vollständig ausgefüllte Anmeldeformular an info@musikschule-friedberg.de. Wir bestätigen Ihnen Ihre bzw. die Anmeldung Ihres Kindes mit Angabe von Instrument und Termin.
URL:https://www.musikschule-friedberg.de/veranstaltung/tag-der-offenen-tuer/
LOCATION:Musikschule Friedberg\, Kaiserstr. 21\, Friedberg\, Hessen\, 61169\, Deutschland
ORGANIZER;CN="Musikschule Friedberg":MAILTO:info@musikschule-friedberg.de
END:VEVENT
END:VCALENDAR