BEGIN:VCALENDAR
VERSION:2.0
PRODID:-//Musikschule Friedberg - ECPv6.15.11//NONSGML v1.0//EN
CALSCALE:GREGORIAN
METHOD:PUBLISH
X-ORIGINAL-URL:https://www.musikschule-friedberg.de
X-WR-CALDESC:Veranstaltungen für Musikschule Friedberg
REFRESH-INTERVAL;VALUE=DURATION:PT1H
X-Robots-Tag:noindex
X-PUBLISHED-TTL:PT1H
BEGIN:VTIMEZONE
TZID:Europe/Berlin
BEGIN:DAYLIGHT
TZOFFSETFROM:+0100
TZOFFSETTO:+0200
TZNAME:CEST
DTSTART:20210328T010000
END:DAYLIGHT
BEGIN:STANDARD
TZOFFSETFROM:+0200
TZOFFSETTO:+0100
TZNAME:CET
DTSTART:20211031T010000
END:STANDARD
BEGIN:DAYLIGHT
TZOFFSETFROM:+0100
TZOFFSETTO:+0200
TZNAME:CEST
DTSTART:20220327T010000
END:DAYLIGHT
BEGIN:STANDARD
TZOFFSETFROM:+0200
TZOFFSETTO:+0100
TZNAME:CET
DTSTART:20221030T010000
END:STANDARD
BEGIN:DAYLIGHT
TZOFFSETFROM:+0100
TZOFFSETTO:+0200
TZNAME:CEST
DTSTART:20230326T010000
END:DAYLIGHT
BEGIN:STANDARD
TZOFFSETFROM:+0200
TZOFFSETTO:+0100
TZNAME:CET
DTSTART:20231029T010000
END:STANDARD
END:VTIMEZONE
BEGIN:VEVENT
DTSTART;TZID=Europe/Berlin:20220710T170000
DTEND;TZID=Europe/Berlin:20220710T170000
DTSTAMP:20260424T094356
CREATED:20220321T165841Z
LAST-MODIFIED:20220321T165911Z
UID:4398-1657472400-1657472400@www.musikschule-friedberg.de
SUMMARY:FACHBEREICHSKONZERT STREICHINSTRUMENTE „Mit Strich und Bogen“
DESCRIPTION:So. 10.07.2022 | 17 Uhr | Burgkirche Friedberg \nLeitung Petra Köhs
URL:https://www.musikschule-friedberg.de/veranstaltung/fachbereichskonzert-streichinstrumente-mit-strich-und-bogen/
LOCATION:Burgkirche\, Friedberg\, In der Burg 15\, Friedberg\, Hessen\, 61169
ORGANIZER;CN="Musikschule Friedberg":MAILTO:info@musikschule-friedberg.de
END:VEVENT
END:VCALENDAR