BEGIN:VCALENDAR
VERSION:2.0
PRODID:-//Musikschule Friedberg - ECPv6.15.11//NONSGML v1.0//EN
CALSCALE:GREGORIAN
METHOD:PUBLISH
X-ORIGINAL-URL:https://www.musikschule-friedberg.de
X-WR-CALDESC:Veranstaltungen für Musikschule Friedberg
REFRESH-INTERVAL;VALUE=DURATION:PT1H
X-Robots-Tag:noindex
X-PUBLISHED-TTL:PT1H
BEGIN:VTIMEZONE
TZID:Europe/Berlin
BEGIN:DAYLIGHT
TZOFFSETFROM:+0100
TZOFFSETTO:+0200
TZNAME:CEST
DTSTART:20220327T010000
END:DAYLIGHT
BEGIN:STANDARD
TZOFFSETFROM:+0200
TZOFFSETTO:+0100
TZNAME:CET
DTSTART:20221030T010000
END:STANDARD
BEGIN:DAYLIGHT
TZOFFSETFROM:+0100
TZOFFSETTO:+0200
TZNAME:CEST
DTSTART:20230326T010000
END:DAYLIGHT
BEGIN:STANDARD
TZOFFSETFROM:+0200
TZOFFSETTO:+0100
TZNAME:CET
DTSTART:20231029T010000
END:STANDARD
BEGIN:DAYLIGHT
TZOFFSETFROM:+0100
TZOFFSETTO:+0200
TZNAME:CEST
DTSTART:20240331T010000
END:DAYLIGHT
BEGIN:STANDARD
TZOFFSETFROM:+0200
TZOFFSETTO:+0100
TZNAME:CET
DTSTART:20241027T010000
END:STANDARD
END:VTIMEZONE
BEGIN:VEVENT
DTSTART;TZID=Europe/Berlin:20230226T170000
DTEND;TZID=Europe/Berlin:20230226T170000
DTSTAMP:20260423T222147
CREATED:20221108T141441Z
LAST-MODIFIED:20230207T112007Z
UID:5167-1677430800-1677430800@www.musikschule-friedberg.de
SUMMARY:Per flauto e violoncello
DESCRIPTION:So. 26.02.2023 | 17 Uhr | Musikschule Friedberg \n Per flauto e violoncello\n\nIn der ebenso ausgefallenen wie beliebten Kombination von Violoncello und Querflöte geben Petra Köhs und Sabine Dreier ein Récital mit Werken aus Klassik und Moderne. \nDie beiden Dozentinnen der Musikschule Friedberg interpretieren Duos von Ludwig van Beethoven\, Franz Danzi\, Leopold Hofmann\, Heitor Villa-Lobos und Italo Ruggero Muci. \nAußerdem erwartet das Publikum eine zeitgenössische Komposition für Altflöte solo\, den „Altflöten-Flamenco„ von Burkhard Mohr sowie das 2013 komponierte Cello-Werk „Orbit“ von Philip Glass. \nDas Konzert am Sonntag\, den 26.02.2023 im Saal des Alten Rathauses Friedberg beginnt um 17 Uhr. \nDer Eintritt ist frei\, um Spenden wird gebeten. \n 
URL:https://www.musikschule-friedberg.de/veranstaltung/per-flauto-e-violoncello/
LOCATION:Musikschule Friedberg\, Kaiserstr. 21\, Friedberg\, Hessen\, 61169\, Deutschland
ORGANIZER;CN="Musikschule Friedberg":MAILTO:info@musikschule-friedberg.de
END:VEVENT
END:VCALENDAR