BEGIN:VCALENDAR
VERSION:2.0
PRODID:-//Musikschule Friedberg - ECPv6.15.11//NONSGML v1.0//EN
CALSCALE:GREGORIAN
METHOD:PUBLISH
X-WR-CALNAME:Musikschule Friedberg
X-ORIGINAL-URL:https://www.musikschule-friedberg.de
X-WR-CALDESC:Veranstaltungen für Musikschule Friedberg
REFRESH-INTERVAL;VALUE=DURATION:PT1H
X-Robots-Tag:noindex
X-PUBLISHED-TTL:PT1H
BEGIN:VTIMEZONE
TZID:Europe/Berlin
BEGIN:DAYLIGHT
TZOFFSETFROM:+0100
TZOFFSETTO:+0200
TZNAME:CEST
DTSTART:20220327T010000
END:DAYLIGHT
BEGIN:STANDARD
TZOFFSETFROM:+0200
TZOFFSETTO:+0100
TZNAME:CET
DTSTART:20221030T010000
END:STANDARD
BEGIN:DAYLIGHT
TZOFFSETFROM:+0100
TZOFFSETTO:+0200
TZNAME:CEST
DTSTART:20230326T010000
END:DAYLIGHT
BEGIN:STANDARD
TZOFFSETFROM:+0200
TZOFFSETTO:+0100
TZNAME:CET
DTSTART:20231029T010000
END:STANDARD
BEGIN:DAYLIGHT
TZOFFSETFROM:+0100
TZOFFSETTO:+0200
TZNAME:CEST
DTSTART:20240331T010000
END:DAYLIGHT
BEGIN:STANDARD
TZOFFSETFROM:+0200
TZOFFSETTO:+0100
TZNAME:CET
DTSTART:20241027T010000
END:STANDARD
END:VTIMEZONE
BEGIN:VEVENT
DTSTART;TZID=Europe/Berlin:20230701T113000
DTEND;TZID=Europe/Berlin:20230701T113000
DTSTAMP:20260423T131430
CREATED:20230221T144424Z
LAST-MODIFIED:20230221T144602Z
UID:6018-1688211000-1688211000@www.musikschule-friedberg.de
SUMMARY:Musik von allen Saiten - FACHBEREICHSKONZERT ZUPFINSTRUMENTE
DESCRIPTION:Sa. 01.07.2023 | 11:30 Uhr | Musikschule Friedberg\nFACHBEREICHSKONZERT ZUPFINSTRUMENTE\nMusik von allen Saiten\nLeitung Vincent Rocher
URL:https://www.musikschule-friedberg.de/veranstaltung/musik-von-alles-saiten-fachbereichskonzert-zupfinstrumente/
LOCATION:Musikschule Friedberg\, Kaiserstr. 21\, Friedberg\, Hessen\, 61169\, Deutschland
ORGANIZER;CN="Musikschule Friedberg":MAILTO:info@musikschule-friedberg.de
END:VEVENT
BEGIN:VEVENT
DTSTART;TZID=Europe/Berlin:20230702T170000
DTEND;TZID=Europe/Berlin:20230702T170000
DTSTAMP:20260423T131430
CREATED:20221123T104542Z
LAST-MODIFIED:20230221T144715Z
UID:5201-1688317200-1688317200@www.musikschule-friedberg.de
SUMMARY:Bühne frei für Streicher - FACHBEREICHSKONZERT STREICHINSTRUMENTE
DESCRIPTION:So. 02.07.2023 | 17:00 Uhr | Burgkirche Friedberg \nBühne frei für Streicher \nBurgkirche Friedberg\, In der Burg 15\nLeitung: Petra Köhs
URL:https://www.musikschule-friedberg.de/veranstaltung/fachbereichskonzert-streichinstrumente/
LOCATION:Burgkirche\, Friedberg\, In der Burg 15\, Friedberg\, Hessen\, 61169
ORGANIZER;CN="Musikschule Friedberg":MAILTO:info@musikschule-friedberg.de
END:VEVENT
END:VCALENDAR